0.0500000000
0.0000000000
0.0000000000
-0.0500000000
385000.0250000000
2928999.9750000001
