0.0500000000
0.0000000000
0.0000000000
-0.0500000000
381000.0250000000
2937999.9750000001
