0.0500000000
0.0000000000
0.0000000000
-0.0500000000
380000.0250000000
2927999.9750000001
