0.0500000000
0.0000000000
0.0000000000
-0.0500000000
379000.0250000000
2932999.9750000001
