0.0500000000
0.0000000000
0.0000000000
-0.0500000000
374000.0250000000
2964999.9750000001
