0.0500000000
0.0000000000
0.0000000000
-0.0500000000
373000.0250000000
2962999.9750000001
