0.0500000000
0.0000000000
0.0000000000
-0.0500000000
371000.0250000000
2970999.9750000001
