0.0500000000
0.0000000000
0.0000000000
-0.0500000000
370000.0250000000
2969999.9750000001
