0.0500000000
0.0000000000
0.0000000000
-0.0500000000
367000.0250000000
2972999.9750000001
