0.0500000000
0.0000000000
0.0000000000
-0.0500000000
364000.0250000000
2982999.9750000001
