0.0500000000
0.0000000000
0.0000000000
-0.0500000000
363000.0250000000
2983999.9750000001
