0.0500000000
0.0000000000
0.0000000000
-0.0500000000
361000.0250000000
2981999.9750000001
