0.0500000000
0.0000000000
0.0000000000
-0.0500000000
359000.0250000000
2989999.9750000001
