0.0500000000
0.0000000000
0.0000000000
-0.0500000000
358000.0250000000
2986999.9750000001
