1.00000000000000
0.00000000000000
0.00000000000000
-1.00000000000000
567250.43799999997000
5255227.00000000000000
