1.00000000000000
0.00000000000000
0.00000000000000
-1.00000000000000
583750.43799999997000
5257501.00000000000000
