1.00000000000000
0.00000000000000
0.00000000000000
-1.00000000000000
573850.43799999997000
5259775.00000000000000
