1.0000000000
0.0000000000
0.0000000000
-1.0000000000
298514.2740000000
4913161.8210000005
