1.00000000000000
0.00000000000000
0.00000000000000
-1.00000000000000
553951.66099999996000
5176048.58100000020000
