1.00000000000000
0.00000000000000
0.00000000000000
-1.00000000000000
556570.66099999996000
5167723.58100000020000
