1.00000000000000
0.00000000000000
0.00000000000000
-1.00000000000000
561808.66099999996000
5170498.58100000020000
