1.00000000000000
0.00000000000000
0.00000000000000
-1.00000000000000
559189.66099999996000
5170498.58100000020000
