1.00000000000000
0.00000000000000
0.00000000000000
-1.00000000000000
564427.66099999996000
5176048.58100000020000
