1.0000000000
0.0000000000
0.0000000000
-1.0000000000
601612.0560000000
4651632.8799999999
