<metadata xml:lang="en"><Esri><CreaDate>20190123</CreaDate><CreaTime>09505400</CreaTime><ArcGISFormat>1.0</ArcGISFormat><ArcGISstyle>FGDC CSDGM Metadata</ArcGISstyle><SyncOnce>FALSE</SyncOnce><DataProperties><itemProps><itemName Sync="TRUE">Rocky_Creek_RGB_Tile_R2C1.tif</itemName><itemLocation><linkage Sync="TRUE">file://E:\NIGHTHAWK_2021\Delivery\Rocky_Creek\Tiles\RGB\Rocky_Creek_RGB_Tile_R2C1.tif</linkage><protocol Sync="TRUE">Local Area Network</protocol></itemLocation><nativeExtBox><westBL Sync="TRUE">597345.556000</westBL><eastBL Sync="TRUE">601611.556000</eastBL><southBL Sync="TRUE">4649190.380000</southBL><northBL Sync="TRUE">4651633.380000</northBL><exTypeCode Sync="TRUE">1</exTypeCode></nativeExtBox><imsContentType Sync="TRUE" export="False">002</imsContentType></itemProps><coordRef><type Sync="TRUE">Projected</type><geogcsn Sync="TRUE">GCS_North_American_1983</geogcsn><csUnits Sync="TRUE">Linear Unit: Meter (1.000000)</csUnits><projcsn Sync="TRUE">NAD_1983_UTM_Zone_16N</projcsn><peXml Sync="TRUE">&lt;ProjectedCoordinateSystem xsi:type='typens:ProjectedCoordinateSystem' xmlns:xsi='http://www.w3.org/2001/XMLSchema-instance' xmlns:xs='http://www.w3.org/2001/XMLSchema' xmlns:typens='http://www.esri.com/schemas/ArcGIS/10.7'&gt;&lt;WKT&gt;PROJCS[&amp;quot;NAD_1983_UTM_Zone_16N&amp;quot;,GEOGCS[&amp;quot;GCS_North_American_1983&amp;quot;,DATUM[&amp;quot;D_North_American_1983&amp;quot;,SPHEROID[&amp;quot;GRS_1980&amp;quot;,6378137.0,298.257222101]],PRIMEM[&amp;quot;Greenwich&amp;quot;,0.0],UNIT[&amp;quot;Degree&amp;quot;,0.0174532925199433]],PROJECTION[&amp;quot;Transverse_Mercator&amp;quot;],PARAMETER[&amp;quot;False_Easting&amp;quot;,500000.0],PARAMETER[&amp;quot;False_Northing&amp;quot;,0.0],PARAMETER[&amp;quot;Central_Meridian&amp;quot;,-87.0],PARAMETER[&amp;quot;Scale_Factor&amp;quot;,0.9996],PARAMETER[&amp;quot;Latitude_Of_Origin&amp;quot;,0.0],UNIT[&amp;quot;Meter&amp;quot;,1.0],AUTHORITY[&amp;quot;EPSG&amp;quot;,26916]]&lt;/WKT&gt;&lt;XOrigin&gt;-5120900&lt;/XOrigin&gt;&lt;YOrigin&gt;-9998100&lt;/YOrigin&gt;&lt;XYScale&gt;450445547.3910538&lt;/XYScale&gt;&lt;ZOrigin&gt;-100000&lt;/ZOrigin&gt;&lt;ZScale&gt;10000&lt;/ZScale&gt;&lt;MOrigin&gt;-100000&lt;/MOrigin&gt;&lt;MScale&gt;10000&lt;/MScale&gt;&lt;XYTolerance&gt;0.001&lt;/XYTolerance&gt;&lt;ZTolerance&gt;0.001&lt;/ZTolerance&gt;&lt;MTolerance&gt;0.001&lt;/MTolerance&gt;&lt;HighPrecision&gt;true&lt;/HighPrecision&gt;&lt;WKID&gt;26916&lt;/WKID&gt;&lt;LatestWKID&gt;26916&lt;/LatestWKID&gt;&lt;/ProjectedCoordinateSystem&gt;</peXml></coordRef><RasterProperties><General><PixelDepth Sync="TRUE">8</PixelDepth><HasColormap Sync="TRUE">FALSE</HasColormap><CompressionType Sync="TRUE">None</CompressionType><NumBands Sync="TRUE">3</NumBands><Format Sync="TRUE">ENVI</Format><HasPyramids Sync="TRUE">FALSE</HasPyramids><SourceType Sync="TRUE">continuous</SourceType><PixelType Sync="TRUE">unsigned integer</PixelType><NoDataValue Sync="TRUE"></NoDataValue></General></RasterProperties></DataProperties><SyncDate>20211109</SyncDate><SyncTime>16152400</SyncTime><ModDate>20211109</ModDate><ModTime>16152400</ModTime><scaleRange><minScale>150000000</minScale><maxScale>5000</maxScale></scaleRange><ArcGISProfile>FGDC</ArcGISProfile></Esri><mdLang><languageCode value="eng"/><countryCode value="USA" Sync="TRUE"/></mdLang><mdChar><CharSetCd value="004"/></mdChar><mdHrLv><ScopeCd value="005"/></mdHrLv><mdDateSt Sync="TRUE">20211109</mdDateSt><mdStanName>ArcGIS Metadata</mdStanName><mdStanVer>1.0</mdStanVer><dataIdInfo><idCitation xmlns=""><date><pubDate>2021-08-13T00:00:00</pubDate></date><presForm xmlns=""><PresFormCd value="005"/></presForm><presForm xmlns=""><fgdcGeoform>vector digital data</fgdcGeoform></presForm><citRespParty xmlns=""><rpIndName>John Merrill</rpIndName><rpOrgName>Galileo Group, Inc.</rpOrgName><rpPosName>Director of Remote Sensing</rpPosName><rpCntInfo xmlns=""><cntPhone><voiceNum tddtty="">615.427.8871</voiceNum></cntPhone><cntAddress addressType="physical"><delPoint>100 Rialto Place Suite 737</delPoint><city>Melbourne</city><adminArea>FL</adminArea><postCode>32901</postCode><country>US</country><eMailAdd>jmerrill@galileo-gp.com</eMailAdd></cntAddress></rpCntInfo><displayName>John Merrill</displayName><displayName>John Merrill</displayName><role><RoleCd value="006"/></role></citRespParty><resTitle Sync="TRUE">Rocky_Creek_RGB_Tile_R2C1.tif</resTitle></idCitation><idAbs>&lt;DIV STYLE="text-align:Left;"&gt;&lt;DIV&gt;&lt;DIV&gt;&lt;P&gt;&lt;SPAN&gt;This data consists of a 3-band True Color (RGB) subset of Visual through Near Infrared (VNIR, 400-1000nm, 178 bands) airborne hyperspectral data collected with an AISA Kestrel sensor system on 8 August 2021 from 12:12 to 12:28 local time over the Rocky Creek, MI AOI. The mosaic image was tiled out according to the corresponding tiling scheme.&lt;/SPAN&gt;&lt;/P&gt;&lt;/DIV&gt;&lt;/DIV&gt;&lt;/DIV&gt;</idAbs><idPurp>This airborne hyperspectral data was created by Galileo Group, Inc from 1 August to 16 August 2021 for NOAA's 2021 Manoomin Airborne Hyperspectral project covering the Lake Michigan and Huron basins. The purpose of this project was to use airborne hyperspectral data along with ground-based GPS points, geo-tagged digital imagery, and spectrometry in order to delineate wild rice and other vegetative species of interest within the airborne hyperspectral imagery. All data were created by Galileo Group, Inc. for NOAA's 2021 Manoomin Airborne Hyperspectral project.</idPurp><idStatus><ProgCd value="001"/></idStatus><idPoC xmlns=""><rpIndName>John Merrill</rpIndName><rpOrgName>Galileo Group, Inc.</rpOrgName><rpPosName>Director of Remote Sensing</rpPosName><rpCntInfo xmlns=""><cntPhone><voiceNum tddtty="">615.427.8871</voiceNum></cntPhone><cntAddress addressType="physical"><delPoint>100 Rialto Place Suite 737</delPoint><city>Melbourne</city><adminArea>FL</adminArea><postCode>32901</postCode><country>US</country><eMailAdd>jmerrill@galileo-gp.com</eMailAdd></cntAddress></rpCntInfo><role><RoleCd value="007"/></role></idPoC><resMaint><maintFreq><MaintFreqCd value="011"/></maintFreq></resMaint><themeKeys xmlns=""><thesaName xmlns=""><resTitle>ISO 19115 Topic Categories</resTitle></thesaName><keyword>hyperspectral</keyword><keyword>remote sensing</keyword><keyword>Zizania</keyword><keyword>wild rice</keyword><keyword>geoscientific Information</keyword><keyword>environment</keyword><keyword>inland Waters</keyword></themeKeys><themeKeys xmlns=""><keyword>GPS</keyword></themeKeys><searchKeys><keyword>Hyperspectral</keyword><keyword>remote sensing</keyword><keyword>infrared</keyword><keyword>Zizania</keyword><keyword>GPS</keyword><keyword>geoscientific information</keyword><keyword>environment</keyword><keyword>inland waters</keyword><keyword>wetlands</keyword><keyword>wild rice</keyword></searchKeys><spatRpType><SpatRepTypCd value="001"/></spatRpType><dataLang><languageCode value="eng"/><countryCode value="USA" Sync="TRUE"/></dataLang><envirDesc Sync="TRUE"> Version 6.2 (Build 9200) ; Esri ArcGIS 10.7.1.11595</envirDesc><dataExt xmlns=""><exDesc>Data was created between 30 August 2018 and 24 January 2019.</exDesc><tempEle><TempExtent><exTemp><TM_Period><tmBegin>2018-08-30T00:00:00</tmBegin><tmEnd>2019-01-24T00:00:00</tmEnd></TM_Period></exTemp></TempExtent></tempEle></dataExt><dataChar><CharSetCd value="004"/></dataChar><dataExt xmlns=""><geoEle xmlns=""><GeoBndBox esriExtentType="search"><exTypeCode Sync="TRUE">1</exTypeCode><westBL Sync="TRUE">-85.824796</westBL><eastBL Sync="TRUE">-85.772883</eastBL><northBL Sync="TRUE">42.010706</northBL><southBL Sync="TRUE">41.988169</southBL></GeoBndBox></geoEle></dataExt><idCredit>Galileo Group Inc., Tetra Tech Inc., NOAA</idCredit><tpCat><TopicCatCd value="007"/></tpCat><tpCat><TopicCatCd value="012"/></tpCat><tpCat><TopicCatCd value="008"/></tpCat></dataIdInfo><mdMaint xmlns=""><maintFreq><MaintFreqCd value="011"/></maintFreq></mdMaint><spatRepInfo><Georect><numDims Sync="TRUE">2</numDims><axisDimension type="001"><dimSize Sync="TRUE">2443</dimSize><dimResol><value Sync="TRUE" uom="m">1.000000</value></dimResol></axisDimension><axisDimension type="002"><dimSize Sync="TRUE">4266</dimSize><dimResol><value Sync="TRUE" uom="m">1.000000</value></dimResol></axisDimension><cellGeo><CellGeoCd value="002" Sync="TRUE"/></cellGeo><tranParaAv Sync="TRUE">1</tranParaAv><chkPtAv Sync="TRUE">0</chkPtAv><cornerPts><pos Sync="TRUE">597345.556000 4649190.380000</pos></cornerPts><cornerPts><pos Sync="TRUE">597345.556000 4651633.380000</pos></cornerPts><cornerPts><pos Sync="TRUE">601611.556000 4651633.380000</pos></cornerPts><cornerPts><pos Sync="TRUE">601611.556000 4649190.380000</pos></cornerPts><centerPt><pos Sync="TRUE">599478.556000 4650411.880000</pos></centerPt><ptInPixel><PixOrientCd Sync="TRUE" value="001"/></ptInPixel></Georect></spatRepInfo><distInfo xmlns=""><distFormat xmlns=""><formatName Sync="TRUE">Raster Dataset</formatName></distFormat></distInfo><mdHrLvName Sync="TRUE">dataset</mdHrLvName><refSysInfo><RefSystem><refSysID><identCode code="26916" Sync="TRUE"/><idCodeSpace Sync="TRUE">EPSG</idCodeSpace><idVersion Sync="TRUE">6.13(3.0.1)</idVersion></refSysID></RefSystem></refSysInfo><contInfo><ImgDesc xmlns=""><contentTyp><ContentTypCd Sync="TRUE" value="001"/></contentTyp><covDim><Band xmlns=""><dimDescrp Sync="TRUE">0.644610</dimDescrp><bitsPerVal Sync="TRUE">8</bitsPerVal><valUnit><UOM type="length" gmlID=""/></valUnit></Band><Band xmlns=""><dimDescrp Sync="TRUE">0.552070</dimDescrp><bitsPerVal Sync="TRUE">8</bitsPerVal><valUnit><UOM type="length" gmlID=""/></valUnit></Band><Band xmlns=""><dimDescrp Sync="TRUE">0.463550</dimDescrp><bitsPerVal Sync="TRUE">8</bitsPerVal><valUnit><UOM type="length" gmlID=""/></valUnit></Band><Band xmlns=""><dimDescrp Sync="TRUE">Mosaic (Band 4) (0.406140)</dimDescrp><bitsPerVal Sync="TRUE">16</bitsPerVal><valUnit><UOM type="length" gmlID=""/></valUnit></Band><Band xmlns=""><dimDescrp Sync="TRUE">Mosaic (Band 5) (0.409510)</dimDescrp><bitsPerVal Sync="TRUE">16</bitsPerVal><valUnit><UOM type="length" gmlID=""/></valUnit></Band><Band xmlns=""><dimDescrp Sync="TRUE">Mosaic (Band 6) (0.412870)</dimDescrp><bitsPerVal Sync="TRUE">16</bitsPerVal><valUnit><UOM type="length" gmlID=""/></valUnit></Band><Band xmlns=""><dimDescrp Sync="TRUE">Mosaic (Band 7) (0.416240)</dimDescrp><bitsPerVal Sync="TRUE">16</bitsPerVal><valUnit><UOM type="length" gmlID=""/></valUnit></Band><Band xmlns=""><dimDescrp Sync="TRUE">Mosaic (Band 8) (0.419610)</dimDescrp><bitsPerVal Sync="TRUE">16</bitsPerVal><valUnit><UOM type="length" gmlID=""/></valUnit></Band><Band xmlns=""><dimDescrp Sync="TRUE">Mosaic (Band 9) (0.422980)</dimDescrp><bitsPerVal Sync="TRUE">16</bitsPerVal><valUnit><UOM type="length" gmlID=""/></valUnit></Band><Band xmlns=""><dimDescrp Sync="TRUE">Mosaic (Band 10) (0.426360)</dimDescrp><bitsPerVal Sync="TRUE">16</bitsPerVal><valUnit><UOM type="length" gmlID=""/></valUnit></Band><Band xmlns=""><dimDescrp Sync="TRUE">Mosaic (Band 11) (0.429730)</dimDescrp><bitsPerVal Sync="TRUE">16</bitsPerVal><valUnit><UOM type="length" gmlID=""/></valUnit></Band><Band xmlns=""><dimDescrp Sync="TRUE">Mosaic (Band 12) (0.433110)</dimDescrp><bitsPerVal Sync="TRUE">16</bitsPerVal><valUnit><UOM type="length" gmlID=""/></valUnit></Band><Band xmlns=""><dimDescrp Sync="TRUE">Mosaic (Band 13) (0.436480)</dimDescrp><bitsPerVal Sync="TRUE">16</bitsPerVal><valUnit><UOM type="length" gmlID=""/></valUnit></Band><Band xmlns=""><dimDescrp Sync="TRUE">Mosaic (Band 14) (0.439860)</dimDescrp><maxVal Sync="TRUE">0.993900</maxVal><minVal Sync="TRUE">0.000000</minVal><bitsPerVal Sync="TRUE">16</bitsPerVal><valUnit><UOM type="length" gmlID=""/></valUnit></Band><Band xmlns=""><dimDescrp Sync="TRUE">Mosaic (Band 15) (0.443240)</dimDescrp><maxVal Sync="TRUE">0.995600</maxVal><minVal Sync="TRUE">0.000000</minVal><bitsPerVal Sync="TRUE">16</bitsPerVal><valUnit><UOM type="length" gmlID=""/></valUnit></Band><Band xmlns=""><dimDescrp Sync="TRUE">Mosaic (Band 16) (0.446630)</dimDescrp><bitsPerVal Sync="TRUE">16</bitsPerVal><valUnit><UOM type="length" gmlID=""/></valUnit></Band><Band xmlns=""><dimDescrp Sync="TRUE">Mosaic (Band 17) (0.450010)</dimDescrp><maxVal Sync="TRUE">0.987200</maxVal><minVal Sync="TRUE">0.000000</minVal><bitsPerVal Sync="TRUE">16</bitsPerVal><valUnit><UOM type="length" gmlID=""/></valUnit></Band><Band xmlns=""><dimDescrp Sync="TRUE">Mosaic (Band 18) (0.453390)</dimDescrp><bitsPerVal Sync="TRUE">16</bitsPerVal><valUnit><UOM type="length" gmlID=""/></valUnit></Band><Band xmlns=""><dimDescrp Sync="TRUE">Mosaic (Band 19) (0.456780)</dimDescrp><bitsPerVal Sync="TRUE">16</bitsPerVal><valUnit><UOM type="length" gmlID=""/></valUnit></Band><Band xmlns=""><dimDescrp Sync="TRUE">Mosaic (Band 20) (0.460170)</dimDescrp><bitsPerVal Sync="TRUE">16</bitsPerVal><valUnit><UOM type="length" gmlID=""/></valUnit></Band><Band xmlns=""><dimDescrp Sync="TRUE">Mosaic (Band 21) (0.463550)</dimDescrp><bitsPerVal Sync="TRUE">16</bitsPerVal><valUnit><UOM type="length" gmlID=""/></valUnit></Band><Band xmlns=""><dimDescrp Sync="TRUE">Mosaic (Band 22) (0.466940)</dimDescrp><bitsPerVal Sync="TRUE">16</bitsPerVal><valUnit><UOM type="length" gmlID=""/></valUnit></Band><Band xmlns=""><dimDescrp Sync="TRUE">Mosaic (Band 23) (0.470340)</dimDescrp><bitsPerVal Sync="TRUE">16</bitsPerVal><valUnit><UOM type="length" gmlID=""/></valUnit></Band><Band xmlns=""><dimDescrp Sync="TRUE">Mosaic (Band 24) (0.473730)</dimDescrp><bitsPerVal Sync="TRUE">16</bitsPerVal><valUnit><UOM type="length" gmlID=""/></valUnit></Band><Band xmlns=""><dimDescrp Sync="TRUE">Mosaic (Band 25) (0.477120)</dimDescrp><bitsPerVal Sync="TRUE">16</bitsPerVal><valUnit><UOM type="length" gmlID=""/></valUnit></Band><Band xmlns=""><dimDescrp Sync="TRUE">Mosaic (Band 26) (0.480520)</dimDescrp><bitsPerVal Sync="TRUE">16</bitsPerVal><valUnit><UOM type="length" gmlID=""/></valUnit></Band><Band xmlns=""><dimDescrp Sync="TRUE">Mosaic (Band 27) (0.483910)</dimDescrp><bitsPerVal Sync="TRUE">16</bitsPerVal><valUnit><UOM type="length" gmlID=""/></valUnit></Band><Band xmlns=""><dimDescrp Sync="TRUE">Mosaic (Band 28) (0.487310)</dimDescrp><bitsPerVal Sync="TRUE">16</bitsPerVal><valUnit><UOM type="length" gmlID=""/></valUnit></Band><Band xmlns=""><dimDescrp Sync="TRUE">Mosaic (Band 29) (0.490710)</dimDescrp><bitsPerVal Sync="TRUE">16</bitsPerVal><valUnit><UOM type="length" gmlID=""/></valUnit></Band><Band xmlns=""><dimDescrp Sync="TRUE">Mosaic (Band 30) (0.494110)</dimDescrp><bitsPerVal Sync="TRUE">16</bitsPerVal><valUnit><UOM type="length" gmlID=""/></valUnit></Band><Band xmlns=""><dimDescrp Sync="TRUE">Mosaic (Band 31) (0.497510)</dimDescrp><bitsPerVal Sync="TRUE">16</bitsPerVal><valUnit><UOM type="length" gmlID=""/></valUnit></Band><Band xmlns=""><dimDescrp Sync="TRUE">Mosaic (Band 32) (0.500910)</dimDescrp><bitsPerVal Sync="TRUE">16</bitsPerVal><valUnit><UOM type="length" gmlID=""/></valUnit></Band><Band xmlns=""><dimDescrp Sync="TRUE">Mosaic (Band 33) (0.504310)</dimDescrp><bitsPerVal Sync="TRUE">16</bitsPerVal><valUnit><UOM type="length" gmlID=""/></valUnit></Band><Band xmlns=""><dimDescrp Sync="TRUE">Mosaic (Band 34) (0.507720)</dimDescrp><bitsPerVal Sync="TRUE">16</bitsPerVal><valUnit><UOM type="length" gmlID=""/></valUnit></Band><Band xmlns=""><dimDescrp Sync="TRUE">Mosaic (Band 35) (0.511120)</dimDescrp><maxVal Sync="TRUE">0.863000</maxVal><minVal Sync="TRUE">0.000000</minVal><bitsPerVal Sync="TRUE">16</bitsPerVal><valUnit><UOM type="length" gmlID=""/></valUnit></Band><Band xmlns=""><dimDescrp Sync="TRUE">Mosaic (Band 36) (0.514530)</dimDescrp><bitsPerVal Sync="TRUE">16</bitsPerVal><valUnit><UOM type="length" gmlID=""/></valUnit></Band><Band xmlns=""><dimDescrp Sync="TRUE">Mosaic (Band 37) (0.517940)</dimDescrp><bitsPerVal Sync="TRUE">16</bitsPerVal><valUnit><UOM type="length" gmlID=""/></valUnit></Band><Band xmlns=""><dimDescrp Sync="TRUE">Mosaic (Band 38) (0.521350)</dimDescrp><bitsPerVal Sync="TRUE">16</bitsPerVal><valUnit><UOM type="length" gmlID=""/></valUnit></Band><Band xmlns=""><dimDescrp Sync="TRUE">Mosaic (Band 39) (0.524760)</dimDescrp><bitsPerVal Sync="TRUE">16</bitsPerVal><valUnit><UOM type="length" gmlID=""/></valUnit></Band><Band xmlns=""><dimDescrp Sync="TRUE">Mosaic (Band 40) (0.528170)</dimDescrp><bitsPerVal Sync="TRUE">16</bitsPerVal><valUnit><UOM type="length" gmlID=""/></valUnit></Band><Band xmlns=""><dimDescrp Sync="TRUE">Mosaic (Band 41) (0.531580)</dimDescrp><bitsPerVal Sync="TRUE">16</bitsPerVal><valUnit><UOM type="length" gmlID=""/></valUnit></Band><Band xmlns=""><dimDescrp Sync="TRUE">Mosaic (Band 42) (0.534990)</dimDescrp><bitsPerVal Sync="TRUE">16</bitsPerVal><valUnit><UOM type="length" gmlID=""/></valUnit></Band><Band xmlns=""><dimDescrp Sync="TRUE">Mosaic (Band 43) (0.538400)</dimDescrp><bitsPerVal Sync="TRUE">16</bitsPerVal><valUnit><UOM type="length" gmlID=""/></valUnit></Band><Band xmlns=""><dimDescrp Sync="TRUE">Mosaic (Band 44) (0.541820)</dimDescrp><bitsPerVal Sync="TRUE">16</bitsPerVal><valUnit><UOM type="length" gmlID=""/></valUnit></Band><Band xmlns=""><dimDescrp Sync="TRUE">Mosaic (Band 45) (0.545230)</dimDescrp><bitsPerVal Sync="TRUE">16</bitsPerVal><valUnit><UOM type="length" gmlID=""/></valUnit></Band><Band xmlns=""><dimDescrp Sync="TRUE">Mosaic (Band 46) (0.548650)</dimDescrp><bitsPerVal Sync="TRUE">16</bitsPerVal><valUnit><UOM type="length" gmlID=""/></valUnit></Band><Band xmlns=""><dimDescrp Sync="TRUE">Mosaic (Band 47) (0.552070)</dimDescrp><bitsPerVal Sync="TRUE">16</bitsPerVal><valUnit><UOM type="length" gmlID=""/></valUnit></Band><Band xmlns=""><dimDescrp Sync="TRUE">Mosaic (Band 48) (0.555480)</dimDescrp><bitsPerVal Sync="TRUE">16</bitsPerVal><valUnit><UOM type="length" gmlID=""/></valUnit></Band><Band xmlns=""><dimDescrp Sync="TRUE">Mosaic (Band 49) (0.558900)</dimDescrp><bitsPerVal Sync="TRUE">16</bitsPerVal><valUnit><UOM type="length" gmlID=""/></valUnit></Band><Band xmlns=""><dimDescrp Sync="TRUE">Mosaic (Band 50) (0.562320)</dimDescrp><maxVal Sync="TRUE">1.132200</maxVal><minVal Sync="TRUE">0.000000</minVal><bitsPerVal Sync="TRUE">16</bitsPerVal><valUnit><UOM type="length" gmlID=""/></valUnit></Band><Band xmlns=""><dimDescrp Sync="TRUE">Mosaic (Band 51) (0.565740)</dimDescrp><bitsPerVal Sync="TRUE">16</bitsPerVal><valUnit><UOM type="length" gmlID=""/></valUnit></Band><Band xmlns=""><dimDescrp Sync="TRUE">Mosaic (Band 52) (0.569160)</dimDescrp><bitsPerVal Sync="TRUE">16</bitsPerVal><valUnit><UOM type="length" gmlID=""/></valUnit></Band><Band xmlns=""><dimDescrp Sync="TRUE">Mosaic (Band 53) (0.572590)</dimDescrp><bitsPerVal Sync="TRUE">16</bitsPerVal><valUnit><UOM type="length" gmlID=""/></valUnit></Band><Band xmlns=""><dimDescrp Sync="TRUE">Mosaic (Band 54) (0.576010)</dimDescrp><maxVal Sync="TRUE">1.136800</maxVal><minVal Sync="TRUE">0.000000</minVal><bitsPerVal Sync="TRUE">16</bitsPerVal><valUnit><UOM type="length" gmlID=""/></valUnit></Band><Band xmlns=""><dimDescrp Sync="TRUE">Mosaic (Band 55) (0.579430)</dimDescrp><bitsPerVal Sync="TRUE">16</bitsPerVal><valUnit><UOM type="length" gmlID=""/></valUnit></Band><Band xmlns=""><dimDescrp Sync="TRUE">Mosaic (Band 56) (0.582860)</dimDescrp><bitsPerVal Sync="TRUE">16</bitsPerVal><valUnit><UOM type="length" gmlID=""/></valUnit></Band><Band xmlns=""><dimDescrp Sync="TRUE">Mosaic (Band 57) (0.586280)</dimDescrp><bitsPerVal Sync="TRUE">16</bitsPerVal><valUnit><UOM type="length" gmlID=""/></valUnit></Band><Band xmlns=""><dimDescrp Sync="TRUE">Mosaic (Band 58) (0.589710)</dimDescrp><bitsPerVal Sync="TRUE">16</bitsPerVal><valUnit><UOM type="length" gmlID=""/></valUnit></Band><Band xmlns=""><dimDescrp Sync="TRUE">Mosaic (Band 59) (0.593140)</dimDescrp><bitsPerVal Sync="TRUE">16</bitsPerVal><valUnit><UOM type="length" gmlID=""/></valUnit></Band><Band xmlns=""><dimDescrp Sync="TRUE">Mosaic (Band 60) (0.596560)</dimDescrp><bitsPerVal Sync="TRUE">16</bitsPerVal><valUnit><UOM type="length" gmlID=""/></valUnit></Band><Band xmlns=""><dimDescrp Sync="TRUE">Mosaic (Band 61) (0.599990)</dimDescrp><bitsPerVal Sync="TRUE">16</bitsPerVal><valUnit><UOM type="length" gmlID=""/></valUnit></Band><Band xmlns=""><dimDescrp Sync="TRUE">Mosaic (Band 62) (0.603420)</dimDescrp><bitsPerVal Sync="TRUE">16</bitsPerVal><valUnit><UOM type="length" gmlID=""/></valUnit></Band><Band xmlns=""><dimDescrp Sync="TRUE">Mosaic (Band 63) (0.606850)</dimDescrp><bitsPerVal Sync="TRUE">16</bitsPerVal><valUnit><UOM type="length" gmlID=""/></valUnit></Band><Band xmlns=""><dimDescrp Sync="TRUE">Mosaic (Band 64) (0.610280)</dimDescrp><bitsPerVal Sync="TRUE">16</bitsPerVal><valUnit><UOM type="length" gmlID=""/></valUnit></Band><Band xmlns=""><dimDescrp Sync="TRUE">Mosaic (Band 65) (0.613710)</dimDescrp><bitsPerVal Sync="TRUE">16</bitsPerVal><valUnit><UOM type="length" gmlID=""/></valUnit></Band><Band xmlns=""><dimDescrp Sync="TRUE">Mosaic (Band 66) (0.617140)</dimDescrp><bitsPerVal Sync="TRUE">16</bitsPerVal><valUnit><UOM type="length" gmlID=""/></valUnit></Band><Band xmlns=""><dimDescrp Sync="TRUE">Mosaic (Band 67) (0.620570)</dimDescrp><bitsPerVal Sync="TRUE">16</bitsPerVal><valUnit><UOM type="length" gmlID=""/></valUnit></Band><Band xmlns=""><dimDescrp Sync="TRUE">Mosaic (Band 68) (0.624000)</dimDescrp><bitsPerVal Sync="TRUE">16</bitsPerVal><valUnit><UOM type="length" gmlID=""/></valUnit></Band><Band xmlns=""><dimDescrp Sync="TRUE">Mosaic (Band 69) (0.627440)</dimDescrp><bitsPerVal Sync="TRUE">16</bitsPerVal><valUnit><UOM type="length" gmlID=""/></valUnit></Band><Band xmlns=""><dimDescrp Sync="TRUE">Mosaic (Band 70) (0.630870)</dimDescrp><bitsPerVal Sync="TRUE">16</bitsPerVal><valUnit><UOM type="length" gmlID=""/></valUnit></Band><Band xmlns=""><dimDescrp Sync="TRUE">Mosaic (Band 71) (0.634300)</dimDescrp><bitsPerVal Sync="TRUE">16</bitsPerVal><valUnit><UOM type="length" gmlID=""/></valUnit></Band><Band xmlns=""><dimDescrp Sync="TRUE">Mosaic (Band 72) (0.637740)</dimDescrp><bitsPerVal Sync="TRUE">16</bitsPerVal><valUnit><UOM type="length" gmlID=""/></valUnit></Band><Band xmlns=""><dimDescrp Sync="TRUE">Mosaic (Band 73) (0.641170)</dimDescrp><bitsPerVal Sync="TRUE">16</bitsPerVal><valUnit><UOM type="length" gmlID=""/></valUnit></Band><Band xmlns=""><dimDescrp Sync="TRUE">Mosaic (Band 74) (0.644610)</dimDescrp><bitsPerVal Sync="TRUE">16</bitsPerVal><valUnit><UOM type="length" gmlID=""/></valUnit></Band><Band xmlns=""><dimDescrp Sync="TRUE">Mosaic (Band 75) (0.648040)</dimDescrp><bitsPerVal Sync="TRUE">16</bitsPerVal><valUnit><UOM type="length" gmlID=""/></valUnit></Band><Band xmlns=""><dimDescrp Sync="TRUE">Mosaic (Band 76) (0.651480)</dimDescrp><bitsPerVal Sync="TRUE">16</bitsPerVal><valUnit><UOM type="length" gmlID=""/></valUnit></Band><Band xmlns=""><dimDescrp Sync="TRUE">Mosaic (Band 77) (0.654920)</dimDescrp><bitsPerVal Sync="TRUE">16</bitsPerVal><valUnit><UOM type="length" gmlID=""/></valUnit></Band><Band xmlns=""><dimDescrp Sync="TRUE">Mosaic (Band 78) (0.658350)</dimDescrp><bitsPerVal Sync="TRUE">16</bitsPerVal><valUnit><UOM type="length" gmlID=""/></valUnit></Band><Band xmlns=""><dimDescrp Sync="TRUE">Mosaic (Band 79) (0.661790)</dimDescrp><bitsPerVal Sync="TRUE">16</bitsPerVal><valUnit><UOM type="length" gmlID=""/></valUnit></Band><Band xmlns=""><dimDescrp Sync="TRUE">Mosaic (Band 80) (0.665230)</dimDescrp><bitsPerVal Sync="TRUE">16</bitsPerVal><valUnit><UOM type="length" gmlID=""/></valUnit></Band><Band xmlns=""><dimDescrp Sync="TRUE">Mosaic (Band 81) (0.668670)</dimDescrp><bitsPerVal Sync="TRUE">16</bitsPerVal><valUnit><UOM type="length" gmlID=""/></valUnit></Band><Band xmlns=""><dimDescrp Sync="TRUE">Mosaic (Band 82) (0.672110)</dimDescrp><bitsPerVal Sync="TRUE">16</bitsPerVal><valUnit><UOM type="length" gmlID=""/></valUnit></Band><Band xmlns=""><dimDescrp Sync="TRUE">Mosaic (Band 83) (0.675540)</dimDescrp><bitsPerVal Sync="TRUE">16</bitsPerVal><valUnit><UOM type="length" gmlID=""/></valUnit></Band><Band xmlns=""><dimDescrp Sync="TRUE">Mosaic (Band 84) (0.678980)</dimDescrp><bitsPerVal Sync="TRUE">16</bitsPerVal><valUnit>