1.0000000000
0.0000000000
0.0000000000
-1.0000000000
597346.0560000000
4654075.8799999999
