1.0000000000
0.0000000000
0.0000000000
-1.0000000000
298682.5530000000
5103638.3169999998
