1.0000000000
0.0000000000
0.0000000000
-1.0000000000
296076.5530000000
5105696.3169999998
