1.0000000000
0.0000000000
0.0000000000
-1.0000000000
630599.8210000000
4656259.5499999998
