1.0000000000
0.0000000000
0.0000000000
-1.0000000000
636911.8210000000
4659393.5499999998
