1.0000000000
0.0000000000
0.0000000000
-1.0000000000
633755.8210000000
4659393.5499999998
