1.0000000000
0.0000000000
0.0000000000
-1.0000000000
640067.8210000000
4662527.5499999998
