1.0000000000
0.0000000000
0.0000000000
-1.0000000000
646379.8210000000
4665661.5499999998
