1.0000000000
0.0000000000
0.0000000000
-1.0000000000
475875.7030000000
4605914.1059999997
