1.0000000000
0.0000000000
0.0000000000
-1.0000000000
472992.7030000000
4607729.1059999997
