1.0000000000
0.0000000000
0.0000000000
-1.0000000000
575194.0740000000
4901026.4680000003
