1.0000000000
0.0000000000
0.0000000000
-1.0000000000
553764.0740000000
4903542.4680000003
