1.0000000000
0.0000000000
0.0000000000
-1.0000000000
570908.0740000000
4906058.4680000003
