1.00000000000000
0.00000000000000
0.00000000000000
-1.00000000000000
682430.75000000000000
5164977.00000000000000
