1.00000000000000
0.00000000000000
0.00000000000000
-1.00000000000000
667950.75000000000000
5169025.00000000000000
