1.00000000000000
0.00000000000000
0.00000000000000
-1.00000000000000
675190.75000000000000
5171049.00000000000000
