1.00000000000000
0.00000000000000
0.00000000000000
-1.00000000000000
671570.75000000000000
5171049.00000000000000
