1.0000000000
0.0000000000
0.0000000000
-1.0000000000
489871.3400000000
4613257.6500000004
