1.0000000000
0.0000000000
0.0000000000
-1.0000000000
493181.3400000000
4615637.6500000004
