1.0000000000
0.0000000000
0.0000000000
-1.0000000000
550442.4690000000
4880581.4500000002
