1.0000000000
0.0000000000
0.0000000000
-1.0000000000
268394.6290000000
4982999.5170000000
