1.0000000000
0.0000000000
0.0000000000
-1.0000000000
273488.6290000000
4985957.5170000000
