1.0000000000
0.0000000000
0.0000000000
-1.0000000000
270941.6290000000
4985957.5170000000
