1.0000000000
0.0000000000
0.0000000000
-1.0000000000
268394.6290000000
4988915.5170000000
