1.00000000000000
0.00000000000000
0.00000000000000
-1.00000000000000
520950.09399999998000
5172649.50000000000000
